BEGIN:VCALENDAR
VERSION:2.0
PRODID:spatie/icalendar-generator
NAME:Qaptis offers a CO2 capture kit that can reduce up to 90% of CO2 emiss
 ions from any heavy vehicle. [Powertage 2022]
X-WR-CALNAME:Qaptis offers a CO2 capture kit that can reduce up to 90% of C
 O2 emissions from any heavy vehicle. [Powertage 2022]
BEGIN:VTIMEZONE
TZID:Europe/Zurich
BEGIN:STANDARD
DTSTART:20211031T030000
TZOFFSETFROM:+0200
TZOFFSETTO:+0100
END:STANDARD
BEGIN:DAYLIGHT
DTSTART:20220327T020000
TZOFFSETFROM:+0100
TZOFFSETTO:+0200
END:DAYLIGHT
BEGIN:STANDARD
DTSTART:20221030T030000
TZOFFSETFROM:+0200
TZOFFSETTO:+0100
END:STANDARD
END:VTIMEZONE
BEGIN:VTIMEZONE
TZID:UTC
BEGIN:STANDARD
DTSTART:20250727T133845
TZOFFSETFROM:+0000
TZOFFSETTO:+0000
END:STANDARD
END:VTIMEZONE
BEGIN:VEVENT
UID:69ea20e52d832
DTSTAMP:20260423T133845Z
DTSTART;TZID=Europe/Zurich:20220517T153000
DTEND;TZID=Europe/Zurich:20220517T160000
SUMMARY:Qaptis offers a CO2 capture kit that can reduce up to 90% of CO2 em
 issions from any heavy vehicle. [Powertage 2022]
DESCRIPTION:https://www.powertage.ch/de/e/qaptis-offers-a-co2-capture-kit-t
 hat-can-reduce-up-to-90-of-co2-emissions-from-any-heavy-vehicle.22135\n\nT
 he next 7 years is the humanity's best window to enact bold\, transformati
 onal changes in our global economy to avoid raising global temperature abo
 ve 1.5°C (source: IPCC).
LOCATION:Halle 6\, Speakers Corner
END:VEVENT
END:VCALENDAR